Workbook
Name Condition: 'lookup tables'!$G$5:$G$16
Name Development: 'lookup tables'!$C$5:$C$17
Name Location: 'lookup tables'!$K$5:$K$8
Name Outcome: 'lookup tables'!$I$5:$I$12
Name Sex: 'lookup tables'!$E$5:$E$7
Name Species: 'lookup tables'!$A$5:$A$26
Name yesno: 'lookup tables'!$M$5:$M$6

Sheet Recording sheet
A1: Carer: | E1: PLEASE USE DROP-DOWN LISTS PROVIDED. IF YOUR CASE IS NOT COVERED, PLEASE USE COMMENTS COLUMN
E2: This form will accept 100 records. If you have more, please use a second copy of the form
A4: index | B4: species | C4: date admitted | D4: Weight on entry (gm) | E4: Weight on release/ death (gm) | F4: Forearm length (mm) | G4: Age /development | H4: Baby's f/a length on release (mm) | I4: Sex | J4: Injuries | K4: Dehydrated? | L4: Starved? | M4: Where found | N4: Outcome | O4: Euthenased? | P4: Sent for post mortem? | Q4: Sent for rabies testing? | R4: Ringed/marked? | S4: Comments
A5: 1
A6: 2
A7: 3
A8: 4
A9: 5
A10: 6
A11: 7
A12: 8
A13: 9
A14: 10
A15: 11
A16: 12
... A104: 100

Sheet summaries
A1: IF YOU HAVE USED THE DROP DOWN LISTS ON THE RECORDING SHEET, AND IF YOU HAVE NOT ALTERED THE RECORDING SHEET, SUMMARIES WILL APPEAR HERE
A4: Species | B4: =SUM(B5:B26) -> 0 | D4: Development | E4: =SUM(E5:E17) -> 0 | G4: Sex | H4: =SUM(H5:H7) -> 0 | J4: Condition | K4: =SUM(K5:K15) -> 0 | M4: Outcome | N4: =SUM(N5:N9) -> 0
A5: Pipistrelle - common | B5: =COUNTIF('Recording sheet'!$B$5:$B$104,summaries!A5) -> 0 | D5: Baby - stage A | E5: =COUNTIF('Recording sheet'!$G$5:$G$104,summaries!D5) -> 0 | G5: Male | H5: =COUNTIF('Recording sheet'!$I$5:$I$104,summaries!G5) -> 0 | J5: Injured - Accident | K5: =COUNTIF('Recording sheet'!$J$5:$J$104,summaries!J5) -> 0 | M5: Overwintered | N5: =COUNTIF('Recording sheet'!$N$5:$N$104,summaries!M5) -> 0
A6: Pipistrelle - soprano | B6: =COUNTIF('Recording sheet'!$B$5:$B$104,summaries!A6) -> 0 | D6: Baby - stage A/B | E6: =COUNTIF('Recording sheet'!$G$5:$G$104,summaries!D6) -> 0 | G6: Female | H6: =COUNTIF('Recording sheet'!$I$5:$I$104,summaries!G6) -> 0 | J6: Injured - Cat | K6: =COUNTIF('Recording sheet'!$J$5:$J$104,summaries!J6) -> 0 | M6: Died within 48 hours | N6: =COUNTIF('Recording sheet'!$N$5:$N$104,summaries!M6) -> 0
A7: Pipistrelle - Nathusius | B7: =COUNTIF('Recording sheet'!$B$5:$B$104,summaries!A7) -> 0 | D7: Baby - stage B | E7: =COUNTIF('Recording sheet'!$G$5:$G$104,summaries!D7) -> 0 | G7: Unsure sex | H7: =COUNTIF('Recording sheet'!$I$5:$I$104,summaries!G7) -> 0 | J7: Injured - Fishing line | K7: =COUNTIF('Recording sheet'!$J$5:$J$104,summaries!J7) -> 0 | M7: Died after 48 hours | N7: =COUNTIF('Recording sheet'!$N$5:$N$104,summaries!M7) -> 0
A8: Pipistrelle - unsure sp. | B8: =COUNTIF('Recording sheet'!$B$5:$B$104,summaries!A8) -> 0 | D8: Baby - stage B/C | E8: =COUNTIF('Recording sheet'!$G$5:$G$104,summaries!D8) -> 0 | J8: Injured - Glue/roofing membrane | K8: =COUNTIF('Recording sheet'!$J$5:$J$104,summaries!J8) -> 0 | M8: Retained in captivity | N8: =COUNTIF('Recording sheet'!$N$5:$N$104,summaries!M8) -> 0
A9: Brown long-eared | B9: =COUNTIF('Recording sheet'!$B$5:$B$104,summaries!A9) -> 0 | D9: Baby - stage C | E9: =COUNTIF('Recording sheet'!$G$5:$G$104,summaries!D9) -> 0 | J9: Injured - natural | K9: =COUNTIF('Recording sheet'!$J$5:$J$104,summaries!J9) -> 0 | M9: Released | N9: =COUNTIF('Recording sheet'!$N$5:$N$104,summaries!M9) -> 0
A10: Daubenton's | B10: =COUNTIF('Recording sheet'!$B$5:$B$104,summaries!A10) -> 0 | D10: Baby - stage C/D | E10: =COUNTIF('Recording sheet'!$G$5:$G$104,summaries!D10) -> 0 | J10: Injured - unknown cause | K10: =COUNTIF('Recording sheet'!$J$5:$J$104,summaries!J10) -> 0
A11: Natterer's | B11: =COUNTIF('Recording sheet'!$B$5:$B$104,summaries!A11) -> 0 | D11: Baby - stage D | E11: =COUNTIF('Recording sheet'!$G$5:$G$104,summaries!D11) -> 0 | G11: Location | H11: =SUM(H12:H15) -> 0 | J11: Poisoned | K11: =COUNTIF('Recording sheet'!$J$5:$J$104,summaries!J11) -> 0 | N11: Yes | O11: No
A12: Brandt's | B12: =COUNTIF('Recording sheet'!$B$5:$B$104,summaries!A12) -> 0 | D12: Baby - stage D/E | E12: =COUNTIF('Recording sheet'!$G$5:$G$104,summaries!D12) -> 0 | G12: Urban | H12: =COUNTIF('Recording sheet'!$M$5:$M$104,summaries!G12) -> 0 | J12: 'Lost' baby/juvenile | K12: =COUNTIF('Recording sheet'!$J$5:$J$104,summaries!J12) -> 0 | M12: Euthenased? | N12: =COUNTIF('Recording sheet'!$O$5:$O$104,"Yes") -> 0 | O12: =COUNTIF('Recording sheet'!$O$5:$O$104,"No") -> 0
A13: Whiskered | B13: =COUNTIF('Recording sheet'!$B$5:$B$104,summaries!A13) -> 0 | D13: Baby - stage E | E13: =COUNTIF('Recording sheet'!$G$5:$G$104,summaries!D13) -> 0 | G13: Suburban | H13: =COUNTIF('Recording sheet'!$M$5:$M$104,summaries!G13) -> 0 | J13: Other injury - use notes | K13: =COUNTIF('Recording sheet'!$J$5:$J$104,summaries!J13) -> 0
A14: Alcathoe | B14: =COUNTIF('Recording sheet'!$B$5:$B$104,summaries!A14) -> 0 | D14: Baby - unknown stage | E14: =COUNTIF('Recording sheet'!$G$5:$G$104,summaries!D14) -> 0 | G14: Rural | H14: =COUNTIF('Recording sheet'!$M$5:$M$104,summaries!G14) -> 0 | J14: No apparent injury but flightless | K14: =COUNTIF('Recording sheet'!$J$5:$J$104,summaries!J14) -> 0 | M14: Sent for post mortem | N14: =COUNTIF('Recording sheet'!$P$5:$P$104,"Yes") -> 0 | O14: =COUNTIF('Recording sheet'!$P$5:P$104,"No") -> 0
A15: WAB - unsure sp. | B15: =COUNTIF('Recording sheet'!$B$5:$B$104,summaries!A15) -> 0 | D15: Juvenile | E15: =COUNTIF('Recording sheet'!$G$5:$G$104,summaries!D15) -> 0 | G15: Unknown | H15: =COUNTIF('Recording sheet'!$M$5:$M$104,summaries!G15) -> 0 | J15: No injury - just release | K15: =COUNTIF('Recording sheet'!$J$5:$J$104,summaries!J15) -> 0 | M15: Sent for rabies testing | N15: =COUNTIF('Recording sheet'!$Q$5:$Q$104,"Yes") -> 0 | O15: =COUNTIF('Recording sheet'!$Q$5:$Q$104,"No") -> 0
A16: Bechstein's | B16: =COUNTIF('Recording sheet'!$B$5:$B$104,summaries!A16) -> 0 | D16: Adult | E16: =COUNTIF('Recording sheet'!$G$5:$G$104,summaries!D16) -> 0
A17: Noctule | B17: =COUNTIF('Recording sheet'!$B$5:$B$104,summaries!A17) -> 0 | D17: Unsure Juv/adult | E17: =COUNTIF('Recording sheet'!$G$5:$G$104,summaries!D17) -> 0 | M17: Ringed/marked? | N17: =COUNTIF('Recording sheet'!$R$5:$R$104,"Yes") -> 0 | O17: =COUNTIF('Recording sheet'!$R$5:$R$104,"No") -> 0
A18: Leisler's | B18: =COUNTIF('Recording sheet'!$B$5:$B$104,summaries!A18) -> 0 | J18: Dehydrated | K18: =COUNTIF('Recording sheet'!$K$5:$K$104,"Yes") -> 0
A19: Serotine | B19: =COUNTIF('Recording sheet'!$B$5:$B$104,summaries!A19) -> 0 | J19: Starved | K19: =COUNTIF('Recording sheet'!$L$5:$L$104,"Yes") -> 0
A20: Lesser Horseshoe | B20: =COUNTIF('Recording sheet'!$B$5:$B$104,summaries!A20) -> 0
A21: Greater horseshoe | B21: =COUNTIF('Recording sheet'!$B$5:$B$104,summaries!A21) -> 0
A22: Barbastelle | B22: =COUNTIF('Recording sheet'!$B$5:$B$104,summaries!A22) -> 0
A23: Grey long-eared | B23: =COUNTIF('Recording sheet'!$B$5:$B$104,summaries!A23) -> 0
A24: Long-eared - unsure sp. | B24: =COUNTIF('Recording sheet'!$B$5:$B$104,summaries!A24) -> 0
A25: Unknown sp | B25: =COUNTIF('Recording sheet'!$B$5:$B$104,summaries!A25) -> 0
A26: Vagrant | B26: =COUNTIF('Recording sheet'!$B$5:$B$104,summaries!A26) -> 0

Sheet lookup tables
A1: PLEASE DO NOT USE THIS SHEET FOR RECORDING INFORMATION
A2: IT IS STORING INFORMATION REQUIRED FOR THE RECORDING SHEET TO FUNCTION
A4: Species | C4: Development | E4: Sex | G4: Condition | I4: Outcome | K4: Location
A5: Pipistrelle - common | C5: Baby - stage A | E5: Male | G5: Injured - Accident | I5: Overwintered | K5: Urban | M5: Yes
A6: Pipistrelle - soprano | C6: Baby - stage A/B | E6: Female | G6: Injured - Cat | I6: Died within 48 hours | K6: Suburban | M6: No
A7: Pipistrelle - Nathusius | C7: Baby - stage B | E7: Unsure sex | G7: Injured - Fishing line | I7: Died after 48 hours | K7: Rural
A8: Pipistrelle - unsure sp. | C8: Baby - stage B/C | G8: Injured - Glue/roofing membrane | I8: Retained in captivity | K8: Unknown
A9: Brown long-eared | C9: Baby - stage C | G9: Injured - natural | I9: Released
A10: Daubenton's | C10: Baby - stage C/D | G10: Injured - unknown cause
A11: Natterer's | C11: Baby - stage D | G11: Poisoned
A12: Brandt's | C12: Baby - stage D/E | G12: 'Lost' baby/juvenile
A13: Whiskered | C13: Baby - stage E | G13: Other injury - use notes
A14: Alcathoe | C14: Baby - unknown stage | G14: No apparent injury but flightless
A15: WAB - unsure sp. | C15: Juvenile | G15: No injury - just release
A16: Bechstein's | C16: Adult
A17: Noctule | C17: Unsure Juv/adult
A18: Leisler's
A19: Serotine
A20: Lesser Horseshoe
A21: Greater horseshoe
A22: Barbastelle
A23: Grey long-eared
A24: Long-eared - unsure sp.
A25: Unknown sp
A26: Vagrant

Sheet Guidance notes for completion.
